BEGIN:VCALENDAR
VERSION:2.0
PRODID:-//Spooner Physical Therapy - ECPv6.15.20//NONSGML v1.0//EN
CALSCALE:GREGORIAN
METHOD:PUBLISH
X-WR-CALNAME:Spooner Physical Therapy
X-ORIGINAL-URL:https://www.spoonerpt.com
X-WR-CALDESC:Events for Spooner Physical Therapy
REFRESH-INTERVAL;VALUE=DURATION:PT1H
X-Robots-Tag:noindex
X-PUBLISHED-TTL:PT1H
BEGIN:VTIMEZONE
TZID:America/Phoenix
BEGIN:STANDARD
TZOFFSETFROM:-0700
TZOFFSETTO:-0700
TZNAME:MST
DTSTART:20230101T000000
END:STANDARD
END:VTIMEZONE
BEGIN:VEVENT
DTSTART;TZID=America/Phoenix:20241206T073000
DTEND;TZID=America/Phoenix:20241208T053000
DTSTAMP:20260419T100419
CREATED:20240716T230455Z
LAST-MODIFIED:20240716T230457Z
UID:10000051-1733470200-1733635800@www.spoonerpt.com
SUMMARY:Mobilization of the Visceral Fascia - The Gastrointestinal System
DESCRIPTION:Course Description \n\n\n\nThis satellite lab continuing education course provides comprehensive knowledge concerning the relationship between the connective tissue surrounding the visceral structures of the gastrointestinal system and the normal function of the musculoskeletal system. Information is presented on the embryology of the viscera and connective tissue system as it applies to associated visceral and fascial anatomy. Each lecture incorporates the science behind and evidence supporting visceral and fascial-based manual therapy for patients with various musculoskeletal and pelvic health physical therapy diagnoses. \n\n\n\nThis manual therapy course emphasizes clinical reasoning with the goal of immediate implementation of an extensive number of treatment techniques into an existing musculoskeletal and pelvic health practice. The material presented has applications for diagnosis\, such as abdominopelvic pain\, gastroparesis\, GERD\, constipation\, abdominal adhesions\, and urinary issues. Additionally\, the solid organs of the GI system have a profound effect on the thorax\, contributing to spinal issues and breathing pattern dysfunction (Bordoni & Zanier\, 2013). Coursework is geared toward the pelvic health therapist who wishes to integrate advanced manual therapy skills into their treatment regime for their pelvic and orthopedic clientele. \n\n\n\nThis course includes extensive lab work. All attendees should come prepared to participate as both clinician and patient. Male course attendees may participate fully in the entire course\, while pregnant attendees may participate in a limited capacity\, as deep palpation of the abdomen is ill-advised for pregnant women. \n\n\n\nSpecial Considerations \n\n\n\nThis continuing education course includes extensive lab work\, which will be demoed and guided by the instructor. Participants should plan on partnering with another registered therapist or a small group in order to get the full learning experience from this course. \n\n\n\nPrerequisites \n\n\n\nPelvic Function Level 1 at a minimum. For Pediatric therapists\, completion of training such as Pediatrics Level 1 – Treatment of Bowel and Bladder Disorders live course. It is also highly recommended the participant have experience with assessing and treating patients with bowel dysfunction.
URL:https://www.spoonerpt.com/events/mobilization-of-the-visceral-fascia-the-gastrointestinal-system/
LOCATION:Spooner Biltmore\, 2122 E Highland Ave Suite 200\, Phoenix\, Arizona\, 85016\, United States
CATEGORIES:Continuing Education
ATTACH;FMTTYPE=image/webp:https://www.spoonerpt.com/wp-content/uploads/Mobilization-of-VisceralFascia.webp
END:VEVENT
END:VCALENDAR