BEGIN:VCALENDAR
VERSION:2.0
PRODID:-//Spooner Physical Therapy - ECPv6.15.20//NONSGML v1.0//EN
CALSCALE:GREGORIAN
METHOD:PUBLISH
X-ORIGINAL-URL:https://www.spoonerpt.com
X-WR-CALDESC:Events for Spooner Physical Therapy
REFRESH-INTERVAL;VALUE=DURATION:PT1H
X-Robots-Tag:noindex
X-PUBLISHED-TTL:PT1H
BEGIN:VTIMEZONE
TZID:America/Phoenix
BEGIN:STANDARD
TZOFFSETFROM:-0700
TZOFFSETTO:-0700
TZNAME:MST
DTSTART:20240101T000000
END:STANDARD
END:VTIMEZONE
BEGIN:VEVENT
DTSTART;TZID=America/Phoenix:20250104T070000
DTEND;TZID=America/Phoenix:20250104T090000
DTSTAMP:20260419T095414
CREATED:20241205T051713Z
LAST-MODIFIED:20241205T053506Z
UID:10000086-1735974000-1735981200@www.spoonerpt.com
SUMMARY:Anthem Run Club: Warmup and Injury Prevention Workshop
DESCRIPTION:In Collaboration with the Anthem Run Club: Impact Runners \n\n\n\n\n\n\n\n\n\nThe Spooner Anthem team is excited to open our clinic to the Impact Runners community. At this event\, you will learn a proper warmup routine and injury prevention strategies designed to keep you running your best. Stick around after the run for movement assessments and spot treatments to kick start your recovery. We look forward to seeing you soon. \n\n\n\n7:00 AM – Workshop (Spooner team)7:45 AM – Warmup (F45 Anthem)8:00 AM – Group Run \n\n\n\nPost-run assessments and spot treatments \n\n\n\nLight refreshments will be served. \n\n\n\nPlease RSVP below to save your spot. \n\n\n\n\n\n\n\n\n\n\n                \n                        \n                            EVENT RSVP – Anthem Run Club Warmup & Injury Prevention Workshop\n                             \n                        					\n						Δ\n						\n						\n\n					\n                        CompanyThis field is for validation purposes and should be left unchanged.Name*\n                            \n                            \n                                                    \n                                                    First\n                                                \n                            \n                            \n                                                    \n                                                    Last\n                                                \n                            \n                        Guest Name\n                            \n                            \n                                                    \n                                                    First\n                                                \n                            \n                            \n                                                    \n                                                    Last\n                                                \n                            \n                        Please skip if you’re not planning to bring a guest.Email*\n                            \n                        We will use your email to send event reminders and other important information from Spooner.Cell Phone*Complimentary Movement AssessmentWould you like the Spooner team to reach out to you directly to schedule a Complimentary Movement Assessment?*\n								\n								Yes\n							\n								\n								No\n							Media ReleaseI grant permission to Spooner and its agents and employees the irrevocable and unrestricted right to reproduce the photographs and/or video images taken of me\, for the purpose of publication\, promotion\, illustration\, advertising\, or trade\, in any manner or in any medium. I hereby release Spooner and its legal representatives for all claims and liability relating to said images or video. I waive my right to any compensation. We will be taking some photos during the seminar. If you'd prefer we not use your photo please let us know.*\n								\n								I accept\n							\n								\n								I DO NOT accept\n							How did you hear about the event?My Spooner therapistA Spooner team memberA friend or family memberA Spooner emailSocial MediaSearch EngineOtherPlease submit any specific questions you are hoping to have covered at the event here:
URL:https://www.spoonerpt.com/events/anthem-run-club-warmup-and-injury-prevention-workshop/
LOCATION:Spooner Anthem\, 41810 N. Venture Dr. Suite C120\, Anthem\, AZ\, 85086\, United States
CATEGORIES:Community Event
ATTACH;FMTTYPE=image/webp:https://www.spoonerpt.com/wp-content/uploads/AnthemRun.webp
ORGANIZER;CN="Spooner Anthem":MAILTO:anthem.frontoffice@spoonerpt.com
END:VEVENT
END:VCALENDAR