BEGIN:VCALENDAR
VERSION:2.0
PRODID:-//Spooner Physical Therapy - ECPv6.15.20//NONSGML v1.0//EN
CALSCALE:GREGORIAN
METHOD:PUBLISH
X-WR-CALNAME:Spooner Physical Therapy
X-ORIGINAL-URL:https://www.spoonerpt.com
X-WR-CALDESC:Events for Spooner Physical Therapy
REFRESH-INTERVAL;VALUE=DURATION:PT1H
X-Robots-Tag:noindex
X-PUBLISHED-TTL:PT1H
BEGIN:VTIMEZONE
TZID:America/Phoenix
BEGIN:STANDARD
TZOFFSETFROM:-0700
TZOFFSETTO:-0700
TZNAME:MST
DTSTART:20240101T000000
END:STANDARD
END:VTIMEZONE
BEGIN:VEVENT
DTSTART;TZID=America/Phoenix:20250116T123000
DTEND;TZID=America/Phoenix:20250116T140000
DTSTAMP:20260423T013743
CREATED:20241218T020216Z
LAST-MODIFIED:20241218T033148Z
UID:10000087-1737030600-1737036000@www.spoonerpt.com
SUMMARY:Move Better Clinic @ The Picklr (Mesa)
DESCRIPTION:Where: Picklr Mesa – 1135 N Recker Rd\, Mesa\, AZ 85205 \n\n\n\nWhen: January 16th (AND the 3rd Thursday of every month) \n\n\n\nCost: $5.00/player (court time is included) \n\n\n\nJoin us for an event focused on your success as a pickleball player! We will take you through a dynamic warm-up session\, provide spot treatment for any current minor aches and pains\, answer questions during a Q&A breakout to address player-specific ailments and professional guidance from a therapist! \n\n\n\nCall to reserve your spot today\, (602) 346-9559! Or… complete the RSVP form below! Registration is free. The $5 event fee will be collected at the event. \n\n\n\nJoin on the 3rd Thursday of every month. Upcoming dates include: \n\n\n\n\nFebruary 20\, 2025\n\n\n\nMarch 20\, 2025\n\n\n\nApril 17\, 2025\n\n\n\n\n\n\n\n\n\n\n\n\n\n                \n                        \n                            EVENT RSVP – Move Better Clinic Picklr N Mesa\n                             \n                        					\n						Δ\n						\n						\n\n					\n                        PhoneThis field is for validation purposes and should be left unchanged.Name*\n                            \n                            \n                                                    \n                                                    First\n                                                \n                            \n                            \n                                                    \n                                                    Last\n                                                \n                            \n                        Guest Name\n                            \n                            \n                                                    \n                                                    First\n                                                \n                            \n                            \n                                                    \n                                                    Last\n                                                \n                            \n                        Please skip if you’re not planning to bring a guest.Email*\n                            \n                        We will use your email to send event reminders and other important information from Spooner.Cell Phone*Complimentary Movement AssessmentWould you like the Spooner team to reach out to you directly to schedule a Complimentary Movement Assessment?*\n								\n								Yes\n							\n								\n								No\n							Media ReleaseI grant permission to Spooner and its agents and employees\, and The Picklr and its agents and employees\,  the irrevocable and unrestricted right to reproduce the photographs and/or video images taken of me\, for the purpose of publication\, promotion\, illustration\, advertising\, or trade\, in any manner or in any medium. I hereby release Spooner and its legal representatives\, and The Picklr and its legal representatives for all claims and liability relating to said images or video. I waive my right to any compensation. We will be taking some photos during the event. If you'd prefer we not use your photo please let us know.*\n								\n								I accept\n							\n								\n								I DO NOT accept\n							How did you hear about the event?My Spooner therapistA Spooner team memberA friend or family memberSignage at The PicklrA Spooner emailSpooner Social MediaThe Picklr Social MediaAn email from The PicklrSearch EngineOtherPlease submit any specific questions you are hoping to have covered at the event here:
URL:https://www.spoonerpt.com/events/move-better-clinic-picklr/
LOCATION:Picklr Mesa\, 1135 N. Recker Rd.\, Mesa\, AZ\, 85205\, United States
CATEGORIES:Community Event
ATTACH;FMTTYPE=image/webp:https://www.spoonerpt.com/wp-content/uploads/Picklr_Website_Event-1800-copy.webp
ORGANIZER;CN="Spooner North Mesa":MAILTO:NorthMesa.FrontOffice@spoonerpt.com
END:VEVENT
BEGIN:VEVENT
DTSTART;TZID=America/Phoenix:20250116T180000
DTEND;TZID=America/Phoenix:20250116T200000
DTSTAMP:20260423T013743
CREATED:20241220T190206Z
LAST-MODIFIED:20241231T171819Z
UID:10000088-1737050400-1737057600@www.spoonerpt.com
SUMMARY:TAKING CARE OF THE “WHOLE”HIGH SCHOOL ATHLETE
DESCRIPTION:Join us at Spooner Rockwall (inside the AmeriSports Complex) for a FREE event for high school athletes\, parents\, coaches\, and sports medicine/healthcare professionals. Thank you to our co-hosts and featured speakers: \n\n\n\n\n\n\n\n\n\n\n\n\n\n\n\n\n\n\n\n \n\n\n\n \n\n\n\n\n\n\n\nThe panel will consist of subject matter experts who will cover the crucial topics of nutrition\, mental health\, maximizing athlete performance after injury\, and physician discussions on common injuries experienced by high school athletes. \n\n\n\nTopicSpeakerSpecialtyFueling the High School Athlete for SuccessDiana GoellnerNutritionistMaximizing Performance After Injury for HS AthletesBecca Sutton Jonathan Jean-BartPhysical TherapyStrength & ConditioningThe Overhead Athlete’s ShoulderDr. John ZavalaSports Medicine PhysicianHip Labral ConditionsDr. Umar BurneySports Medicine PhysicianTommy John Surgery & Return to Throwing ProtocolsDr. Nilpesh PatelSports Medicine PhysicianManaging the Mindset of an AthleteErin Kincaid\, MA\, BCBSMental Health Provider\n\n\n\n\n\n                \n                        \n                            EVENT RSVP – Rockwall Sports Medicine Seminar\n                             \n                        					\n						Δ\n						\n						\n\n					\n                        PhoneThis field is for validation purposes and should be left unchanged.Name*\n                            \n                            \n                                                    \n                                                    First\n                                                \n                            \n                            \n                                                    \n                                                    Last\n                                                \n                            \n                        Guest Name\n                            \n                            \n                                                    \n                                                    First\n                                                \n                            \n                            \n                                                    \n                                                    Last\n                                                \n                            \n                        Please skip if you’re not planning to bring a guest.Email*\n                            \n                        We will use your email to send event reminders and other important information from Spooner.Cell Phone*Complimentary Movement AssessmentWould you like the Spooner team to reach out to you directly to schedule a Complimentary Movement Assessment?*\n								\n								Yes\n							\n								\n								No\n							Media ReleaseI grant permission to Spooner and its agents and employees  the irrevocable and unrestricted right to reproduce the photographs and/or video images taken of me\, for the purpose of publication\, promotion\, illustration\, advertising\, or trade\, in any manner or in any medium. I hereby release Spooner and its legal representatives from all claims and liability relating to said images or video. I waive my right to any compensation. We will be taking some photos during the event. If you'd prefer we not use your photo please let us know.*\n								\n								I accept\n							\n								\n								I DO NOT accept\n							How did you hear about the event?My Spooner therapistA Spooner team memberA friend or family memberSignage at AmerisportsAthletic RepublicOthopaedic Specialists of DallasA Spooner emailSpooner Social MediaOther Social MediaSearch EngineOtherPlease submit any specific questions you are hoping to have covered at the event here:
URL:https://www.spoonerpt.com/events/taking-care-of-the-wholehigh-school-athlete/
LOCATION:AmeriSports Rockwall\, 3101 Fit Sport Life Blvd #100\, Rockwall\, TX\, 75032\, United States
CATEGORIES:Community Event
ATTACH;FMTTYPE=image/webp:https://www.spoonerpt.com/wp-content/uploads/Rockwall_Website_Event.webp
ORGANIZER;CN="Spooner Rockwall":MAILTO:Rockwall.FrontOffice@spoonerpt.com
END:VEVENT
END:VCALENDAR